BEGIN:VCALENDAR
VERSION:2.0
PRODID:SchoolNow
CALSCALE:GREGORIAN
BEGIN:VEVENT
UID:27940cc2-1d74-11f1-8391-0a58a9feac02
DTSTAMP:20260420T005512Z
SUMMARY:Track Meet @ Assumption
URL;VALUE=URI:https://www.tpsd.org/schools/ojh/calendar/8910299/track-meet-
 assumption
DTSTART;VALUE=DATE:20260324
DTEND;VALUE=DATE:20260325
END:VEVENT
END:VCALENDAR
