BEGIN:VCALENDAR
VERSION:2.0
PRODID:SchoolNow
CALSCALE:GREGORIAN
BEGIN:VEVENT
UID:27940b3c-1d74-11f1-a02e-0a58a9feac02
DTSTAMP:20260420T005512Z
SUMMARY:Softball 5:30-Away
URL;VALUE=URI:https://www.tpsd.org/schools/ojh/calendar/8910298/softball-5-
 30-away
DTSTART;VALUE=DATE:20260319
DTEND;VALUE=DATE:20260320
END:VEVENT
END:VCALENDAR
