BEGIN:VCALENDAR
VERSION:2.0
PRODID:SchoolNow
CALSCALE:GREGORIAN
BEGIN:VEVENT
UID:279409e8-1d74-11f1-b84e-0a58a9feac02
DTSTAMP:20260420T005512Z
SUMMARY:Students can wear green shirts and accessories with uniform bottoms
URL;VALUE=URI:https://www.tpsd.org/schools/ojh/calendar/8910297/students-ca
 n-wear-green-shirts-and-accessories-with-uniform-bottoms
DTSTART;VALUE=DATE:20260317
DTEND;VALUE=DATE:20260318
END:VEVENT
END:VCALENDAR
