BEGIN:VCALENDAR
VERSION:2.0
PRODID:SchoolNow
CALSCALE:GREGORIAN
BEGIN:VEVENT
UID:2794070e-1d74-11f1-9f38-0a58a9feac02
DTSTAMP:20260420T005512Z
SUMMARY:Softball 5:30-Away
URL;VALUE=URI:https://www.tpsd.org/schools/ojh/calendar/8910295/softball-5-
 30-away
DTSTART;VALUE=DATE:20260317
DTEND;VALUE=DATE:20260318
END:VEVENT
END:VCALENDAR
