BEGIN:VCALENDAR
VERSION:2.0
PRODID:SchoolNow
CALSCALE:GREGORIAN
BEGIN:VEVENT
UID:27940600-1d74-11f1-8847-0a58a9feac02
DTSTAMP:20260420T005512Z
SUMMARY:Report Cards Issued
URL;VALUE=URI:https://www.tpsd.org/schools/ojh/calendar/8910294/report-card
 s-issued
DTSTART;VALUE=DATE:20260320
DTEND;VALUE=DATE:20260321
END:VEVENT
END:VCALENDAR
