BEGIN:VCALENDAR
VERSION:2.0
PRODID:SchoolNow
CALSCALE:GREGORIAN
BEGIN:VEVENT
UID:279404c0-1d74-11f1-9e4b-0a58a9feac02
DTSTAMP:20260420T005512Z
SUMMARY:Track Meet @ THS
URL;VALUE=URI:https://www.tpsd.org/schools/ojh/calendar/8910293/track-meet-
 ths
DTSTART;VALUE=DATE:20260317
DTEND;VALUE=DATE:20260318
END:VEVENT
END:VCALENDAR
