BEGIN:VCALENDAR
VERSION:2.0
PRODID:SchoolNow
CALSCALE:GREGORIAN
BEGIN:VEVENT
UID:27940240-1d74-11f1-866e-0a58a9feac02
DTSTAMP:20260420T005512Z
SUMMARY:Softball-5:30-Home
URL;VALUE=URI:https://www.tpsd.org/schools/ojh/calendar/8910292/softball-5-
 30-home
DTSTART;VALUE=DATE:20260323
DTEND;VALUE=DATE:20260324
END:VEVENT
END:VCALENDAR
