BEGIN:VCALENDAR
VERSION:2.0
PRODID:SchoolNow
CALSCALE:GREGORIAN
BEGIN:VEVENT
UID:27940150-1d74-11f1-a4be-0a58a9feac02
DTSTAMP:20260420T005512Z
SUMMARY:Baseball 5:30-Home
URL;VALUE=URI:https://www.tpsd.org/schools/ojh/calendar/8910291/baseball-5-
 30-home
DTSTART;VALUE=DATE:20260330
DTEND;VALUE=DATE:20260331
END:VEVENT
END:VCALENDAR
