BEGIN:VCALENDAR
VERSION:2.0
PRODID:SchoolNow
CALSCALE:GREGORIAN
BEGIN:VEVENT
UID:27940056-1d74-11f1-a8c1-0a58a9feac02
DTSTAMP:20260420T005512Z
SUMMARY:Softball 5:30-Away
URL;VALUE=URI:https://www.tpsd.org/schools/ojh/calendar/8910290/softball-5-
 30-away
DTSTART;VALUE=DATE:20260331
DTEND;VALUE=DATE:20260401
END:VEVENT
END:VCALENDAR
