BEGIN:VCALENDAR
VERSION:2.0
PRODID:SchoolNow
CALSCALE:GREGORIAN
BEGIN:VEVENT
UID:2793fea8-1d74-11f1-924b-0a58a9feac02
DTSTAMP:20260420T005512Z
SUMMARY:3rd Nine Weeks Ends
URL;VALUE=URI:https://www.tpsd.org/schools/ojh/calendar/8910289/3rd-nine-we
 eks-ends
DTSTART;VALUE=DATE:20260313
DTEND;VALUE=DATE:20260314
END:VEVENT
END:VCALENDAR
