BEGIN:VCALENDAR
VERSION:2.0
PRODID:SchoolNow
CALSCALE:GREGORIAN
BEGIN:VEVENT
UID:2793f7c8-1d74-11f1-bbac-0a58a9feac02
DTSTAMP:20260420T005512Z
SUMMARY:LEAP Family Night
URL;VALUE=URI:https://www.tpsd.org/schools/ojh/calendar/8910285/leap-family
 -night
DTSTART:20260312T230000Z
DTEND:20260313T000000Z
END:VEVENT
END:VCALENDAR
