BEGIN:VCALENDAR
VERSION:2.0
PRODID:SchoolNow
CALSCALE:GREGORIAN
BEGIN:VEVENT
UID:e2cea9f4-012a-11f1-9724-029da7e5baa9
DTSTAMP:20260420T070013Z
SUMMARY:SGRHO/IOTA Day-wear Blue\, Gold\, or Brown shirts w/ uniform bottom
 s
URL;VALUE=URI:https://www.tpsd.org/schools/ojh/calendar/8848727/sgrho-iota-
 day-wear-blue-gold-or-brown-shirts-w-uniform-bottoms
DTSTART;VALUE=DATE:20260226
DTEND;VALUE=DATE:20260227
END:VEVENT
END:VCALENDAR
