BEGIN:VCALENDAR
VERSION:2.0
PRODID:SchoolNow
CALSCALE:GREGORIAN
BEGIN:VEVENT
UID:e2cea878-012a-11f1-abcc-029da7e5baa9
DTSTAMP:20260420T070013Z
SUMMARY:Black History Month Friday
URL;VALUE=URI:https://www.tpsd.org/schools/ojh/calendar/8848726/black-histo
 ry-month-friday
DTSTART;VALUE=DATE:20260206
DTEND;VALUE=DATE:20260207
END:VEVENT
END:VCALENDAR
