BEGIN:VCALENDAR
VERSION:2.0
PRODID:SchoolNow
CALSCALE:GREGORIAN
BEGIN:VEVENT
UID:e2cea6f2-012a-11f1-a52b-029da7e5baa9
DTSTAMP:20260420T070013Z
SUMMARY:Living Wax Museum (7th/8th)
URL;VALUE=URI:https://www.tpsd.org/schools/ojh/calendar/8848725/living-wax-
 museum-7th-8th
DTSTART;VALUE=DATE:20260226
DTEND;VALUE=DATE:20260227
END:VEVENT
END:VCALENDAR
