BEGIN:VCALENDAR
VERSION:2.0
PRODID:SchoolNow
CALSCALE:GREGORIAN
BEGIN:VEVENT
UID:e2cea576-012a-11f1-a9b2-029da7e5baa9
DTSTAMP:20260420T070013Z
SUMMARY:Living Wax Museum (5th/6th)
URL;VALUE=URI:https://www.tpsd.org/schools/ojh/calendar/8848724/living-wax-
 museum-5th-6th
DTSTART;VALUE=DATE:20260225
DTEND;VALUE=DATE:20260226
END:VEVENT
END:VCALENDAR
