BEGIN:VCALENDAR
VERSION:2.0
PRODID:SchoolNow
CALSCALE:GREGORIAN
BEGIN:VEVENT
UID:e2cea422-012a-11f1-a95b-029da7e5baa9
DTSTAMP:20260420T070013Z
SUMMARY:HBCU Day-students can rep their favorite HBCU apparel
URL;VALUE=URI:https://www.tpsd.org/schools/ojh/calendar/8848723/hbcu-day-st
 udents-can-rep-their-favorite-hbcu-apparel
DTSTART;VALUE=DATE:20260227
DTEND;VALUE=DATE:20260228
END:VEVENT
END:VCALENDAR
