BEGIN:VCALENDAR
VERSION:2.0
PRODID:SchoolNow
CALSCALE:GREGORIAN
BEGIN:VEVENT
UID:e2cea26a-012a-11f1-8a9c-029da7e5baa9
DTSTAMP:20260420T070013Z
SUMMARY:Virtual Field Trip
URL;VALUE=URI:https://www.tpsd.org/schools/ojh/calendar/8848722/virtual-fie
 ld-trip
DTSTART;VALUE=DATE:20260224
DTEND;VALUE=DATE:20260225
END:VEVENT
END:VCALENDAR
