BEGIN:VCALENDAR
VERSION:2.0
PRODID:SchoolNow
CALSCALE:GREGORIAN
BEGIN:VEVENT
UID:e2ce9c70-012a-11f1-b38a-029da7e5baa9
DTSTAMP:20260420T070013Z
SUMMARY:HBCU Week at OMS
URL;VALUE=URI:https://www.tpsd.org/schools/ojh/calendar/8848721/hbcu-week-a
 t-oms
DTSTART;VALUE=DATE:20260222
DTEND;VALUE=DATE:20260228
END:VEVENT
END:VCALENDAR
