BEGIN:VCALENDAR
VERSION:2.0
PRODID:SchoolNow
CALSCALE:GREGORIAN
BEGIN:VEVENT
UID:e2ce9a90-012a-11f1-a78b-029da7e5baa9
DTSTAMP:20260420T070013Z
SUMMARY:Wear Mardi Gras beads w/ uniform bottoms
URL;VALUE=URI:https://www.tpsd.org/schools/ojh/calendar/8848720/wear-mardi-
 gras-beads-w-uniform-bottoms
DTSTART;VALUE=DATE:20260212
DTEND;VALUE=DATE:20260213
END:VEVENT
END:VCALENDAR
