BEGIN:VCALENDAR
VERSION:2.0
PRODID:SchoolNow
CALSCALE:GREGORIAN
BEGIN:VEVENT
UID:e2ce9838-012a-11f1-8d94-029da7e5baa9
DTSTAMP:20260420T070013Z
SUMMARY:Red Light/Green Light @ recess
URL;VALUE=URI:https://www.tpsd.org/schools/ojh/calendar/8848719/red-light-g
 reen-light-recess
DTSTART;VALUE=DATE:20260210
DTEND;VALUE=DATE:20260211
END:VEVENT
END:VCALENDAR
