BEGIN:VCALENDAR
VERSION:2.0
PRODID:SchoolNow
CALSCALE:GREGORIAN
BEGIN:VEVENT
UID:e2ce96e4-012a-11f1-be0a-029da7e5baa9
DTSTAMP:20260420T070013Z
SUMMARY:BHM Floats are Due Today
URL;VALUE=URI:https://www.tpsd.org/schools/ojh/calendar/8848718/bhm-floats-
 are-due-today
DTSTART;VALUE=DATE:20260211
DTEND;VALUE=DATE:20260212
END:VEVENT
END:VCALENDAR
