BEGIN:VCALENDAR
VERSION:2.0
PRODID:SchoolNow
CALSCALE:GREGORIAN
BEGIN:VEVENT
UID:e2ce959a-012a-11f1-8aef-029da7e5baa9
DTSTAMP:20260420T070013Z
SUMMARY:Mardi Gras Break
URL;VALUE=URI:https://www.tpsd.org/schools/ojh/calendar/8848717/mardi-gras-
 break
DTSTART;VALUE=DATE:20260216
DTEND;VALUE=DATE:20260221
END:VEVENT
END:VCALENDAR
