BEGIN:VCALENDAR
VERSION:2.0
PRODID:SchoolNow
CALSCALE:GREGORIAN
BEGIN:VEVENT
UID:e2ce940a-012a-11f1-b040-029da7e5baa9
DTSTAMP:20260420T070013Z
SUMMARY:Black shirt w/ uniform bottoms
URL;VALUE=URI:https://www.tpsd.org/schools/ojh/calendar/8848716/black-shirt
 -w-uniform-bottoms
DTSTART;VALUE=DATE:20260203
DTEND;VALUE=DATE:20260204
END:VEVENT
END:VCALENDAR
