BEGIN:VCALENDAR
VERSION:2.0
PRODID:SchoolNow
CALSCALE:GREGORIAN
BEGIN:VEVENT
UID:e2ce9266-012a-11f1-ad1e-029da7e5baa9
DTSTAMP:20260420T070013Z
SUMMARY:Black History Month Float Contest
URL;VALUE=URI:https://www.tpsd.org/schools/ojh/calendar/8848715/black-histo
 ry-month-float-contest
DTSTART;VALUE=DATE:20260202
DTEND;VALUE=DATE:20260211
END:VEVENT
END:VCALENDAR
