BEGIN:VCALENDAR
VERSION:2.0
PRODID:SchoolNow
CALSCALE:GREGORIAN
BEGIN:VEVENT
UID:e2ce9112-012a-11f1-8b1e-029da7e5baa9
DTSTAMP:20260420T070013Z
SUMMARY:January Perfect Attendance Dress Down
URL;VALUE=URI:https://www.tpsd.org/schools/ojh/calendar/8848714/january-per
 fect-attendance-dress-down
DTSTART;VALUE=DATE:20260205
DTEND;VALUE=DATE:20260206
END:VEVENT
END:VCALENDAR
