BEGIN:VCALENDAR
VERSION:2.0
PRODID:SchoolNow
CALSCALE:GREGORIAN
BEGIN:VEVENT
UID:e2ce8fa0-012a-11f1-bdb6-029da7e5baa9
DTSTAMP:20260420T070013Z
SUMMARY:Green shirt w/ uniform bottoms
URL;VALUE=URI:https://www.tpsd.org/schools/ojh/calendar/8848713/green-shirt
 -w-uniform-bottoms
DTSTART;VALUE=DATE:20260204
DTEND;VALUE=DATE:20260205
END:VEVENT
END:VCALENDAR
