BEGIN:VCALENDAR
VERSION:2.0
PRODID:SchoolNow
CALSCALE:GREGORIAN
BEGIN:VEVENT
UID:e2ce8c30-012a-11f1-a2e1-029da7e5baa9
DTSTAMP:20260420T070013Z
SUMMARY:Mardi Gras EVERYTHING or Black History Month Friday
URL;VALUE=URI:https://www.tpsd.org/schools/ojh/calendar/8848711/mardi-gras-
 everything-or-black-history-month-friday
DTSTART;VALUE=DATE:20260213
DTEND;VALUE=DATE:20260214
END:VEVENT
END:VCALENDAR
