BEGIN:VCALENDAR
VERSION:2.0
PRODID:SchoolNow
CALSCALE:GREGORIAN
BEGIN:VEVENT
UID:e2ce8a6e-012a-11f1-ac3a-029da7e5baa9
DTSTAMP:20260420T070013Z
SUMMARY:I Have a Dream Speech Due Today
URL;VALUE=URI:https://www.tpsd.org/schools/ojh/calendar/8848710/i-have-a-dr
 eam-speech-due-today
DTSTART;VALUE=DATE:20260212
DTEND;VALUE=DATE:20260213
END:VEVENT
END:VCALENDAR
