BEGIN:VCALENDAR
VERSION:2.0
PRODID:SchoolNow
CALSCALE:GREGORIAN
BEGIN:VEVENT
UID:e2ce88f2-012a-11f1-82b9-029da7e5baa9
DTSTAMP:20260420T070013Z
SUMMARY:AKA/KAPPA Day-wear Pink\, Green\, or Red shirts w/  uniform bottoms
URL;VALUE=URI:https://www.tpsd.org/schools/ojh/calendar/8848709/aka-kappa-d
 ay-wear-pink-green-or-red-shirts-w-uniform-bottoms
DTSTART;VALUE=DATE:20260223
DTEND;VALUE=DATE:20260224
END:VEVENT
END:VCALENDAR
