BEGIN:VCALENDAR
VERSION:2.0
PRODID:SchoolNow
CALSCALE:GREGORIAN
BEGIN:VEVENT
UID:e2ce879e-012a-11f1-b123-029da7e5baa9
DTSTAMP:20260420T070013Z
SUMMARY:Mardi Gras Accessories w/ uniform bottoms
URL;VALUE=URI:https://www.tpsd.org/schools/ojh/calendar/8848708/mardi-gras-
 accessories-w-uniform-bottoms
DTSTART;VALUE=DATE:20260209
DTEND;VALUE=DATE:20260210
END:VEVENT
END:VCALENDAR
