BEGIN:VCALENDAR
VERSION:2.0
PRODID:SchoolNow
CALSCALE:GREGORIAN
BEGIN:VEVENT
UID:e2ce8618-012a-11f1-93c5-029da7e5baa9
DTSTAMP:20260420T070013Z
SUMMARY:DELTA/OMEGA Day-wear Red\, Purple\, or Gold Shirts w/ uniform botto
 ms
URL;VALUE=URI:https://www.tpsd.org/schools/ojh/calendar/8848707/delta-omega
 -day-wear-red-purple-or-gold-shirts-w-uniform-bottoms
DTSTART;VALUE=DATE:20260224
DTEND;VALUE=DATE:20260225
END:VEVENT
END:VCALENDAR
