BEGIN:VCALENDAR
VERSION:2.0
PRODID:SchoolNow
CALSCALE:GREGORIAN
BEGIN:VEVENT
UID:e2ce8460-012a-11f1-a778-029da7e5baa9
DTSTAMP:20260420T070013Z
SUMMARY:BHM Luncheon-Teachers
URL;VALUE=URI:https://www.tpsd.org/schools/ojh/calendar/8848706/bhm-luncheo
 n-teachers
DTSTART;VALUE=DATE:20260227
DTEND;VALUE=DATE:20260228
END:VEVENT
END:VCALENDAR
