BEGIN:VCALENDAR
VERSION:2.0
PRODID:SchoolNow
CALSCALE:GREGORIAN
BEGIN:VEVENT
UID:e2ce82f8-012a-11f1-9f61-029da7e5baa9
DTSTAMP:20260420T070013Z
SUMMARY:ZETA/SIGMA Day-wear Blue\, Silver\, or White shirts w/ uniform bott
 oms
URL;VALUE=URI:https://www.tpsd.org/schools/ojh/calendar/8848705/zeta-sigma-
 day-wear-blue-silver-or-white-shirts-w-uniform-bottoms
DTSTART;VALUE=DATE:20260225
DTEND;VALUE=DATE:20260226
END:VEVENT
END:VCALENDAR
