BEGIN:VCALENDAR
VERSION:2.0
PRODID:SchoolNow
CALSCALE:GREGORIAN
BEGIN:VEVENT
UID:e2ce8190-012a-11f1-95a7-029da7e5baa9
DTSTAMP:20260420T070013Z
SUMMARY:Wear your favorite Mardi Gras shirt w/ uniform bottoms
URL;VALUE=URI:https://www.tpsd.org/schools/ojh/calendar/8848704/wear-your-f
 avorite-mardi-gras-shirt-w-uniform-bottoms
DTSTART;VALUE=DATE:20260211
DTEND;VALUE=DATE:20260212
END:VEVENT
END:VCALENDAR
