BEGIN:VCALENDAR
VERSION:2.0
PRODID:SchoolNow
CALSCALE:GREGORIAN
BEGIN:VEVENT
UID:e2ce7fba-012a-11f1-a0c3-029da7e5baa9
DTSTAMP:20260420T070013Z
SUMMARY:I Have a Dream Speech Contest
URL;VALUE=URI:https://www.tpsd.org/schools/ojh/calendar/8848703/i-have-a-dr
 eam-speech-contest
DTSTART;VALUE=DATE:20260206
DTEND;VALUE=DATE:20260212
END:VEVENT
END:VCALENDAR
