BEGIN:VCALENDAR
VERSION:2.0
PRODID:SchoolNow
CALSCALE:GREGORIAN
BEGIN:VEVENT
UID:e2ce7e2a-012a-11f1-9f1d-029da7e5baa9
DTSTAMP:20260420T070013Z
SUMMARY:Red Shirt w/uniform bottoms
URL;VALUE=URI:https://www.tpsd.org/schools/ojh/calendar/8848702/red-shirt-w
 -uniform-bottoms
DTSTART;VALUE=DATE:20260202
DTEND;VALUE=DATE:20260203
END:VEVENT
END:VCALENDAR
