BEGIN:VCALENDAR
VERSION:2.0
PRODID:SchoolNow
CALSCALE:GREGORIAN
BEGIN:VEVENT
UID:e2ce7c0e-012a-11f1-b283-029da7e5baa9
DTSTAMP:20260420T070013Z
SUMMARY:Wear Mardi Gras Sparkle w/ uniform bottoms
URL;VALUE=URI:https://www.tpsd.org/schools/ojh/calendar/8848701/wear-mardi-
 gras-sparkle-w-uniform-bottoms
DTSTART;VALUE=DATE:20260210
DTEND;VALUE=DATE:20260211
END:VEVENT
END:VCALENDAR
