BEGIN:VCALENDAR
VERSION:2.0
PRODID:SchoolNow
CALSCALE:GREGORIAN
BEGIN:VEVENT
UID:e2ce53f0-012a-11f1-8936-029da7e5baa9
DTSTAMP:20260420T070013Z
SUMMARY:Yellow Shirt w/ uniform bottoms
URL;VALUE=URI:https://www.tpsd.org/schools/ojh/calendar/8848700/yellow-shir
 t-w-uniform-bottoms
DTSTART;VALUE=DATE:20260205
DTEND;VALUE=DATE:20260206
END:VEVENT
END:VCALENDAR
