BEGIN:VCALENDAR
VERSION:2.0
PRODID:SchoolNow
CALSCALE:GREGORIAN
BEGIN:VEVENT
UID:da0deea6-cfcf-11f0-ab0e-0a58a9feac02
DTSTAMP:20260420T070013Z
SUMMARY:Bball-Home vs. Vandebilt
URL;VALUE=URI:https://www.tpsd.org/schools/ojh/calendar/8815827/bball-home-
 vs-vandebilt
DTSTART;VALUE=DATE:20260112
DTEND;VALUE=DATE:20260113
END:VEVENT
END:VCALENDAR
