BEGIN:VCALENDAR
VERSION:2.0
PRODID:SchoolNow
CALSCALE:GREGORIAN
BEGIN:VEVENT
UID:da0decda-cfcf-11f0-987f-0a58a9feac02
DTSTAMP:20260420T070013Z
SUMMARY:Bball-Away @Houma Jr. High
URL;VALUE=URI:https://www.tpsd.org/schools/ojh/calendar/8815825/bball-away-
 houma-jr-high
DTSTART;VALUE=DATE:20260127
DTEND;VALUE=DATE:20260128
END:VEVENT
END:VCALENDAR
