BEGIN:VCALENDAR
VERSION:2.0
PRODID:SchoolNow
CALSCALE:GREGORIAN
BEGIN:VEVENT
UID:da0de8d4-cfcf-11f0-9e4f-0a58a9feac02
DTSTAMP:20260420T070013Z
SUMMARY:Bball-Home vs. LCO (8th Grade Night)
URL;VALUE=URI:https://www.tpsd.org/schools/ojh/calendar/8815821/bball-home-
 vs-lco-8th-grade-night
DTSTART;VALUE=DATE:20260121
DTEND;VALUE=DATE:20260122
END:VEVENT
END:VCALENDAR
