BEGIN:VCALENDAR
VERSION:2.0
PRODID:SchoolNow
CALSCALE:GREGORIAN
BEGIN:VEVENT
UID:da0de6f4-cfcf-11f0-a72b-0a58a9feac02
DTSTAMP:20260420T070013Z
SUMMARY:Bball-Home vs. Southern Lab
URL;VALUE=URI:https://www.tpsd.org/schools/ojh/calendar/8815819/bball-home-
 vs-southern-lab
DTSTART;VALUE=DATE:20260202
DTEND;VALUE=DATE:20260203
END:VEVENT
END:VCALENDAR
