BEGIN:VCALENDAR
VERSION:2.0
PRODID:SchoolNow
CALSCALE:GREGORIAN
BEGIN:VEVENT
UID:da0ddeb6-cfcf-11f0-9eef-0a58a9feac02
DTSTAMP:20260420T070013Z
SUMMARY:Bball-Away@St. James
URL;VALUE=URI:https://www.tpsd.org/schools/ojh/calendar/8815816/bball-away-
 st-james
DTSTART;VALUE=DATE:20260108
DTEND;VALUE=DATE:20260109
END:VEVENT
END:VCALENDAR
