BEGIN:VCALENDAR
VERSION:2.0
PRODID:SchoolNow
CALSCALE:GREGORIAN
BEGIN:VEVENT
UID:da0dda92-cfcf-11f0-b270-0a58a9feac02
DTSTAMP:20260420T070013Z
SUMMARY:Bball-Home vs. St. James
URL;VALUE=URI:https://www.tpsd.org/schools/ojh/calendar/8815812/bball-home-
 vs-st-james
DTSTART;VALUE=DATE:20260114
DTEND;VALUE=DATE:20260115
END:VEVENT
END:VCALENDAR
