BEGIN:VCALENDAR
VERSION:2.0
PRODID:SchoolNow
CALSCALE:GREGORIAN
BEGIN:VEVENT
UID:da0dd79a-cfcf-11f0-9151-0a58a9feac02
DTSTAMP:20260420T070013Z
SUMMARY:Bball-Away @Raceland Middle
URL;VALUE=URI:https://www.tpsd.org/schools/ojh/calendar/8815809/bball-away-
 raceland-middle
DTSTART;VALUE=DATE:20260107
DTEND;VALUE=DATE:20260108
END:VEVENT
END:VCALENDAR
