BEGIN:VCALENDAR
VERSION:2.0
PRODID:SchoolNow
CALSCALE:GREGORIAN
BEGIN:VEVENT
UID:da0dd0ec-cfcf-11f0-ac42-0a58a9feac02
DTSTAMP:20260420T070013Z
SUMMARY:Christmas Break
URL;VALUE=URI:https://www.tpsd.org/schools/ojh/calendar/8815806/christmas-b
 reak
DTSTART;VALUE=DATE:20251222
DTEND;VALUE=DATE:20260103
END:VEVENT
END:VCALENDAR
