BEGIN:VCALENDAR
VERSION:2.0
PRODID:SchoolNow
CALSCALE:GREGORIAN
BEGIN:VEVENT
UID:d4f7a7e2-380f-11f1-a9a7-0ec9fb2e4937
DTSTAMP:20260420T043006Z
SUMMARY:K-2 Literacy/Numeracy Testing
URL;VALUE=URI:https://www.tpsd.org/schools/lpe/calendar/8993237/k-2-literac
 y-numeracy-testing
DTSTART;VALUE=DATE:20260421
DTEND;VALUE=DATE:20260422
END:VEVENT
END:VCALENDAR
