BEGIN:VCALENDAR
VERSION:2.0
PRODID:SchoolNow
CALSCALE:GREGORIAN
BEGIN:VEVENT
UID:d4f7a706-380f-11f1-907f-0ec9fb2e4937
DTSTAMP:20260420T043006Z
SUMMARY:K-2 Literacy/Numeracy Testing
URL;VALUE=URI:https://www.tpsd.org/schools/lpe/calendar/8993236/k-2-literac
 y-numeracy-testing
DTSTART;VALUE=DATE:20260420
DTEND;VALUE=DATE:20260421
END:VEVENT
END:VCALENDAR
