BEGIN:VCALENDAR
VERSION:2.0
PRODID:SchoolNow
CALSCALE:GREGORIAN
BEGIN:VEVENT
UID:d4f7a53a-380f-11f1-a086-0ec9fb2e4937
DTSTAMP:20260420T043006Z
SUMMARY:K-2 Literacy/Numeracy Testing
URL;VALUE=URI:https://www.tpsd.org/schools/lpe/calendar/8993234/k-2-literac
 y-numeracy-testing
DTSTART;VALUE=DATE:20260418
DTEND;VALUE=DATE:20260419
END:VEVENT
END:VCALENDAR
