BEGIN:VCALENDAR
VERSION:2.0
PRODID:SchoolNow
CALSCALE:GREGORIAN
BEGIN:VEVENT
UID:d4f7a2ba-380f-11f1-89a0-0ec9fb2e4937
DTSTAMP:20260420T043007Z
SUMMARY:5th/6th grade LEAP Testing
URL;VALUE=URI:https://www.tpsd.org/schools/lpe/calendar/8993232/5th-6th-gra
 de-leap-testing
DTSTART;VALUE=DATE:20260428
DTEND;VALUE=DATE:20260429
END:VEVENT
END:VCALENDAR
